BEGIN:VCALENDAR
METHOD:PUBLISH
VERSION:2.0
PRODID:-//Eventilla iCal Syndication//NONSGML Liana//EN
BEGIN:VEVENT
UID:xE743@eventilla.com
DTSTAMP:20210421T060000Z
DTSTART:20210421T060000Z
DTEND:20210421T080000Z
SUMMARY:DigiHyöty-webinaari: Oletko sopivasti somessa?
DESCRIPTION:Webinaari: Oletko sopivasti somessa? 21.4.2021 klo 9.00-11.00\nTervetuloa mukaan webinaariimme pohtimaan\, miten pk-yrittäjä voisi olla juuri sopivasti somessa.\nOhjelma:\n\nMitä tarkoittaa sosiaalinen media yrityskäytössä?\nMinkälaiset lait ja säännökset yrittäjän tulee ottaa huomioon?\nMiten tehdään vaikuttavaa viestintää?\n\nVilja Ryhmanin esityskalvot viestinnästä\n\n\nTimo Simellin esityskalvot laeista ja somesta\n\nPuhujina webinaarissa:\nVilja Rydman\, viestinnän tutkijaTyöterveyslaitos\nEsitys (PDF)\nTimo Simell\, digivirittäjäTieke\nOletko sopivasti somessa? -webinaari liittyy Työtehoseuran\, Työterveyslaitoksen ja TIEKE Tietoyhteiskunnan kehittämiskeskus ry:n yhdessä toteuttamaan DigiHyöty-hankkeeseen\, jota rahoittaa Euroopan sosiaalirahasto (ESR).\nDigiHyöty-hankkeessa lisätään pienten ja keskisuurten yritysten osaamista digitaalisten tietojärjestelmien käyttämiseen. Digitaalisten järjestelmien käytön sujuvuus parantaa yritysten tuottavuutta sekä koko henkilöstön jaksamista ja työhyvinvointia. Hanke on suunnattu Uudenmaan\, Etelä-Karjalan\, Kymenlaakson\, Päijät- ja Kanta-Hämeen maakuntien mikro- ja pk-yrityksille.\nWebinaari toteutetaan Zoom-verkkokokoustyökalulla. Osallistumista varten sinulla ei tarvitse olla käyttäjätunnusta Zoomiin. Kun osallistut tähän tapahtumaan\, nimesi voi näkyä muille osallistujille ja hetkellisesti myös mahdollisella tallenteella. Osallistumalla tapahtumaan hyväksyt tämän kokemuksen. Joissakin tapahtumissa osallistujanimen voi itse vaihtaa.\nLinkki webinaariin: Join Zoom Meeting\nhttps://tieke.zoom.us/j/92167402398?pwd=U1lQbHM1WFpUUWhDVyt4K1NCbTU2UT09\nMeeting ID: 921 6740 2398 Passcode: 523888\nOhjeet Zoom-palvelun käyttämiseen löytyvät: https://tieke.fi/zoom-ohje/. \nWebinaari on osallistujille maksuton. \nTervetuloa mukaan!
LOCATION:Verkko (Zoom)
URL:http://tapahtumat.tieke.fi/event/xE743
END:VEVENT
END:VCALENDAR
