BEGIN:VCALENDAR
METHOD:PUBLISH
VERSION:2.0
PRODID:-//Eventilla iCal Syndication//NONSGML Liana//EN
BEGIN:VEVENT
UID:xE0LM@eventilla.com
DTSTAMP:20210831T080000Z
DTSTART:20210831T080000Z
DTEND:20210831T100000Z
SUMMARY:DigiTähti-loppuwebinaari: Matkailualan digitaalisuus etenee
DESCRIPTION:DigiTähti-valmennuksilla on edistetty matkailu- ja ravintola-alan digitalisaatiota ja vahvistettu digiosaamista. Valmennuksilla on tarjottu alan yrityksille keinoja liiketoiminnan elvyttämiseen koronakriisin aikana ja varsinkin sen jälkeen.\nDigiTähti-loppuwebinaari 31.8.2021\, klo 11:00 -13:00Matkailualan digitaalisuus etenee\nReilu vuosi DigiTähti -hanketta on takana ja hanke on tulossa päätökseensä. Korona jyllää edelleen\, mutta varsinkin kotimaan matkailu on näyttänyt piristymisen merkkejä. On selvää\, että digitalisaation eteneminen jatkuu matkailualalla ja yritykset ovat ryhtyneet toimiin asioiden edistämiseksi omalta osaltaan. Työtä ja tukea tarvitaan edelleen ja uusia hankkeita myös käynnistyy eri alueilla.\nDigiTähden loppuseminaarissa luodaan katsaus menneeseen hankkeeseen ja avataan näkymiä tuleviin toimiin.\nTule mukaan DigiTähti-loppuwebinaariin kuulemaan näistä asioista!\nOhjelma:\n \nAvaus ja Uudenmaan liiton tervehdys\n \nTarja KoistinenUudenmaan liitto\nDigiTähti -hankkeen toteutus\nMitä DigiTähti -hankkeessa tehtiin ja saatiin aikaan\n\nJari SaloTIEKE\nMatkailija ei tunne kuntarajoja - ajankohtaisia yhteistyöstä\n\nSouth Coast Bikepacking Trail\nBookingpoint -verkkokauppa (luonnollinen jatkumo Digitähdestä)\nThe Carbon Neutral Experience\n\n \nVille Vuorelma Raaseporin kaupunki\nPois kaavoihin kangistumisesta myös digissä\nMatkailusektori alkaa pikkuhiljaa oppia\, että digitaalisuutta voi hyödyntää myynnissä ja markkinoinnissa. Mikäli tyydymme tähän\, olemme kuitenkin jäljessä maailman kehitysvirtauksia.\n\nDigitaalisuus hyötykäytössä kokonaisvaltaisesti\nElämyksellisyys ja digitaalisuus\nDigitaalisuuden uudet mahdollisuudet\n\n \nJohanna Heinonen Matkailun TKI-asiantuntija\, lehtoriLAB-ammattikorkeakoulu ja Itä-Suomen yliopisto\nTallenne\nMatkailuyritysten kommentteja ja näkymiä digitalisaatioon\n \nKeskustelua ja ajatustenvaihtoa\nJos et päässyt mukaan johonkin DigiTähti- webinaareista (tai vaikka pääsitkin)\, voit katsoa tallenteet aiemmista webinaareista täältä!\nSaat tämän webinaarin linkin ilmoittautumisvahvistuksessa!
LOCATION:Webinaari: linkki lähetetään ilmoittautneille
 vahvistusviestissä\, Suomi
URL:http://tapahtumat.tieke.fi/event/xE0LM
END:VEVENT
END:VCALENDAR
