BEGIN:VCALENDAR
METHOD:PUBLISH
VERSION:2.0
PRODID:-//Eventilla iCal Syndication//NONSGML Liana//EN
BEGIN:VEVENT
UID:xDyA0@eventilla.com
DTSTAMP:20210311T070000Z
DTSTART:20210311T070000Z
DTEND:20210311T100000Z
SUMMARY:InPromptu-päätöswebinaari: Yhdessä yli digikuilun - tukea käden ulottuville
DESCRIPTION: \nYhdessä yli digikuilun - tukea käden ulottuville\nInPromptu-hankkeen päätöswebinaari 11.3.2021 klo 9 - 12\nDigitaidot ovat kansalaistaitoja\, joita tarvitaan niin arjessa\, opiskelussa kuin työssä. Tänä päivänä entistä kuumempi kysymys on\, miten rakennamme maailmaa\, jossa kaikki saavat apua ja tukea perustaitojensa kehittämiseen. Lisäväriä kysymykseen tuo\, että liikumme jatkuvasti muuttuvassa digimaastossa ja tähtäämme liikkuvaan maaliin.\nSuomen ainutlaatuisen laaja järjestö- ja yhdistystoiminta on hyvinvoivan kansalaisyhteiskunnan ytimessä. Yhdistykset tarjoavat tärkeitä palveluita ja kohtaamispisteitä niin toimintaan osallistuville kuin järjestäjille itselleen. Ne toimivat mainiona alustana myös digitaitojen opastukselle ja vertaisohjaukselle. Yhdistysten digitaaliseen osaamiseen panostaminen heijastuu parhaimmillaan hyvin laajalle.\nWebinaarissa on luvassa asiaa perustaidoista\, niiden merkityksestä sekä erilaisista mahdollisuuksista digikuilun ylittämiseksi. Webinaari on samalla InPromptu-hankkeen päätöstilaisuus. InPromptu-hankkeessa olemme matkanneet digitaitojen maailmassa lähes kolmen vuoden ajan. Webinaarissa jaamme myös kertyneitä oivalluksiamme ja avoimesti käyttöön otettavia materiaaleja itseopiskelun ja digiohjauksen tueksi.\nWebinaari on maksuton ja pidetään Zoom-ympäristössä. Ilmoittautuneille lähetämme osallistumislinkin tapahtumaa edeltävänä päivänä. Tervetuloa mukaan!\nOhjelman yhteyteen lisätyt esitykset ovat pdf-muodossa ja puheenvuorojen tallenteet YouTubessa.\n\n\n\nOhjelma:\n \n\n\n9.00–9.15\n\nJärjestäjien tervehdys!\nWebinaarin johdattelijana Hanna VuohelainenInPromptu-hankkeen projektipäälikkö\, digiosaamisen ja viestinnän vauhdittaja | TIEKE\n\n\n9.15–10.00\n\nKohdataan verkossa - valmiimpana kohti tulevaaReija Salovaara | Kansalaistoiminnan ja viestinnän johtaja | Martat\nEsitys (pdf)\n\n\n\n\n10.00–11.00\n\nDigitukea käden ulottuville\n\n\n\n \n\nMillaisilla digitaidoilla pärjään tänään? Merja Sjöblom | TIEKE\nEsitys (pdf) Tallenne\n\n\n\n\n \n\nInPromptu-hankkeen satoa:\n\nOsaamista yhdistyksille ja niiden jäsenilleTimo Simell | TIEKE\nEsitys (pdf)\nYhdistyksen huoltokirjasta OsaamiskirjaanMikko Eloholma | TIEKE\n\n\n\n \n\nEsitys (pdf)\nVenyttelytauko\n\n\n\n11.00–11.45\n\nPaneelikeskustelu: Miten pidämme kaikki digikyydissä mukana?\nSiltoja avaamassa:Merja Ahtikari | koulutusjohtaja | Suomen DiakoniaopistoPaula Jägerhorn | asiantuntija | Oppimateriaalikeskus OpikeAnna-Maria Kantola | toiminnanjohtaja | Helsingin työkanava HeTy ryJuha Keränen | järjestösihteeri | Työttömien Keskusjärjestö ryAntti Ryynänen | tietohallintojohtaja | Arffman Finland Oy | tietohallintojohtajaKeskustelun kuljettajana: Hanna Vuohelainen | digiosaamisen ja viestinnän vauhdittaja | TIEKE\n\n\n\n\n11.45–12.00\n\nMatka jatkuuMika Sihvonen | TAIKOJA II -koordinaatiohanke | Tampereen yliopisto\nEsitys (pdf)\n\n \n\n\n\n\n
LOCATION:Zoom
URL:http://tapahtumat.tieke.fi/event/xDyA0
END:VEVENT
END:VCALENDAR
