BEGIN:VCALENDAR
METHOD:PUBLISH
VERSION:2.0
PRODID:-//Eventilla iCal Syndication//NONSGML Liana//EN
BEGIN:VEVENT
UID:wJvNK@eventilla.com
DTSTAMP:20241114T070000Z
DTSTART:20241114T070000Z
DTEND:20241114T140000Z
SUMMARY:Verkkolaskufoorumin syysseminaari 2024
DESCRIPTION:Verkkolaskufoorumin syysseminaarissa esitellään ajankohtaisia digitaalisen taloushallinnon aiheita\, kuten Peppol-verkkolaskutusta\, Euroopan komission ViDa-aloitetta ja eKuitin kehitystä.\nVuosittaisen tapahtuman järjestää Verkkolaskufoorumi Helsingin Ruoholahdessa. Tilaisuus on hybriditilaisuus\, joten siihen voi osallistua joko paikan päällä tai etäyhteyden välityksellä. Seminaariin osallistuminen on maksutonta.\nTervetuloa!\nOhjelma:\n8.30 Aamukahvi\n9.00 Tilaisuuden avaus ja verkkolaskumittaristoTomi Rusi\, Valtiokonttori ja Verkkolaskufoorumin ohjausryhmän puheenjohtaja.\nEsitysmateriaali ja nauhoitettu esitys\n9.10–9.50 Verkkolaskutus Suomessa 25 vuottaMika Hällström ja Harri Korhonen\, Tietoevry Finland Oy\nEsitysmateriaali ja nauhoitettu esitys\n9.50–10.20 Verkkolaskuvisio tiekartta Tomi Rusi\, Valtiokonttori\nEsitysmateriaali ja nauhoitettu esitys\n10.20–10.35 Ohjelmistotalojen näkemys tiekarttaanMartti From\, Pagero Oy\nEsitysmateriaali ja nauhoitettu esitys\n10.35–11.10 Miten verkkolasku- ja Peppol data mahdollistavat teollisuuden automaation Pirkka Frosti\, Ioxio Oy\nEsitysmateriaali ja nauhoitettu esitys\n11.10–12.10 Ruokailu\n12.10–12.40 ViDaPasi Sinervo\, Verohallinto\nEsitysmateriaali ja nauhoitettu esitys\n12.40–13.10 Tilannekatsaukset\nVerkkolaskuosoitteiston tilanne\, Samuli Sorsa\, Posti Messaging Oy\nEsitysmateriaali ja nauhoitettu esitys\nEurooppa-normin uuden version tilanne\, CEN\, Pirjo Ilola\, Valtiokonttori\nEsitysmateriaali ja nauhoitettu esitys\nPankkien tilanteesta tietoisku\, Vesa Karppinen\, Handelsbanken\nEsitysmateriaali ja nauhoitettu esitys\n13.10–13.40 eKuitin tilanneSaku Pihlajaniemi\, ReceiptHero\nEsitysmateriaali ja nauhoitettu esitys\n13.40–14.10 Yrityksen digitalous – tilanne ja jatkotyö\, erityisesti liiketoimintatositteetMinna Rintala\, PRH\nEsitysmateriaali ja nauhoitettu esitys\n14.10–14.30 Kahvitauko\n14.30–15.00 Peppolin tilannekatsausNoora Salonen\, Valtiokonttori\nEsitysmateriaali ja nauhoitettu esitys\n15.00–15.30 Yrityksien haasteita verkkolaskutuksessaEssi Hiles\, Tilipalvelu Rantalainen Oy\nKaarle Putti\, FabricAi\nEsitysmateriaali ja nauhoitettu esitys\n15.30–15.50 Tilaisuuden lopetusTomi Rusi\, Valtiokonttori\n \nWebinaarin järjestää Verkkolaskufoorumi\nVerkkolaskufoorumi on puolueeton verkosto\, joka kehittää verkkolaskusta ja sähköistä\, raaliaikaista taloushallintoa Suomessa. Se kokoaa alan päätoimijat samaan verkostoon.\nTIEKE toimii Verkkolaskufoorumin ohjausryhmän sihteerinä ja vastaa foorumin käytännön toteutuksesta.\nLisätietoja verkkolaskufoorumista
LOCATION:Itämerenkatu 11\, Helsinki
URL:http://tapahtumat.tieke.fi/vlf-syysseminaari-2024
END:VEVENT
END:VCALENDAR
