BEGIN:VCALENDAR
METHOD:PUBLISH
VERSION:2.0
PRODID:-//Eventilla iCal Syndication//NONSGML Liana//EN
BEGIN:VEVENT
UID:nyYB3@eventilla.com
DTSTAMP:20200915T110000Z
DTSTART:20200915T110000Z
DTEND:20200915T130000Z
SUMMARY:Vapaan sivistystyön tulevaisuus digimurroksessa
DESCRIPTION:Vapaan sivistystyön tulevaisuus digimurroksessa\nTervetuloa verkkotapahtumaan\, jossa pohdimme vapaan sivistystyön tulevaisuutta ja digitalisaation vaikutuksia siihen.\nOhjelma\n14:00 Sivistys avoimena lähdekoodina: Björn Wallen | Vapaa Sivistystyö ry\n14:30 Sivistys ennen\, nyt ja huomenna: Sanna Rekola | Sitra\, Sivistys+\n15:15 Tulevaisuuden oppimisen teknologiat: Kati Tiainen | Microsoft\n16:00 Verkkotapahtuma päättyy\nIlmoittautuneille lähetetään ennen tapahtumaa verkkotilan osoite.
LOCATION:Verkko
URL:http://tapahtumat.tieke.fi/digimurros
END:VEVENT
END:VCALENDAR
