BEGIN:VCALENDAR
METHOD:PUBLISH
VERSION:2.0
PRODID:-//Eventilla iCal Syndication//NONSGML Liana//EN
BEGIN:VEVENT
UID:nqlo5@eventilla.com
DTSTAMP:20200911T053000Z
DTSTART:20200911T053000Z
DTEND:20200911T063000Z
SUMMARY:AamuAreena - Verkkolaskuosoitteisto ja Verkottaja - TIEKEn palveluja digitalisaation tueksi
DESCRIPTION:Avaa aamusi Areenalla – tule kuuntelemaan\, keskustelemaan ja solmimaan uusia kontakteja herättävien aiheiden ja kahvikupposen äärelle TIEKEn AamuAreenalle.\nAamuAreena 11.9.2020:\nVerkkolaskuosoitteisto\nja Verkottaja - TIEKEn palveluja digitalisaation tueksi\nTiekellä on tarjolla monia hyödyllisiä digitaalisia palveluita\, jotka lisäävät toiminnan tehokkuutta ja mahdollistavat omalta osaltaan siirtymän digitaaliseen toimintatapaan. Syyskuun AamuAreenalla esittelemme niistä kaksi.\nVerkkolaskuosoitteisto on palvelu\, josta voit etsiä suomalaisten organisaatioiden verkkolaskuosoitteet. Verkkolaskuosoitteiston tietoja ylläpitävät suomalaiset verkkolaskun välittäjät. Verkkolaskuosoitteiston tiedot voi ladata myös omalla koneella käytettäväksi.\nVerkkolaskuosoitteisto on toiminut Suomessa vuodesta 2004. Se uudistettiin täysin 2018 ja on nyt oleellinen osa suomalaista verkkolaskumaksamista.\nVerkottaja-palvelu tarjoaa yksityiskohtaista ja teknistä asiantuntijatason tietoa sanomavälityksen toteutustyön tueksi. Se sisältää sähköiseen tiedonsiirtoon liittyvää tietoa sekä sähköisten sanomien soveltamisohjeita oheismateriaaleineen.\nVerkottaja-palvelu on suunnattu sähköisen liiketoiminnan tiedonvälitysratkaisuja toteuttaville yrityksille\, ohjelmistotaloille\, operaattoreille ja konsulteille. Yritykset voivat hyödyntää palvelun sisältämää materiaalia järjestelmiensä ja liiketoimintansa kehittämisessä.\n     Katso esitys\nTimo Simell\, digivirittäjäTIEKE\nVerkkolaskuosoitteistosta löytyvät suomalaisten organisaatioiden verkkolaskuosoitteet\n\nMiksi osoitteisto on tärkeä?\nMitä hyötyä osoitteistosta on?\nMitä jos osoitteistoa ei olisi?\nVerkkolaskuosoitteiston tietojen tilaaminen?\n\n \n  Katso esitys\nHeikki Laaksamo\, digiverkottajaTIEKE\nTIEKEn Verkottaja-palvelu – sähköisen tiedonsiirron työkalupakki\n\nMitä Verkottaja-palvelu on?\nVerkottaja-palvelun sisältö\nSanomarekisteri\nMiten Verkottaja-palvelun saa käyttöönsä?\nKäyttäjän kokemuksia Verkottaja-palvelusta: Kari Männistö\, Capgemini Finland Oy\n
LOCATION:Webinaari\, Suomi
URL:http://tapahtumat.tieke.fi/event/nqlo5
END:VEVENT
END:VCALENDAR
