BEGIN:VCALENDAR
METHOD:PUBLISH
VERSION:2.0
PRODID:-//Eventilla iCal Syndication//NONSGML Liana//EN
BEGIN:VEVENT
UID:npBVw@eventilla.com
DTSTAMP:20210519T060000Z
DTSTART:20210519T060000Z
DTEND:20210519T080000Z
SUMMARY:DigiHyöty webinaari: Vinkeä verkkokauppa
DESCRIPTION:Webinaari: Vinkeä verkkokauppa\n19.5.2021 kello 9-11. \nTervetuloa kuuntelemaan ja keskustelemaan\, mitä asioita on hyvä ottaa huomioon\, kun verkkokauppaa suunnitellaan ja toteutetaan sekä mitä kaikkea pitäisi tapahtua kun verkkokauppaan tulee tilaus.\nWebinaarin ohjelma:\n9.00 - 10.00\nSuunnittele verkkokauppa-alustan valinta fiksustiTeknisiä eritystarpeita\, joihin valmisverkkokaupat eivät taivu ja on tarvittu kustomia ratkaisua.\nMiten varmistaa\, että verkkokauppa myyTekniseen toteutukseen liittymättömiä asioita ja aikasyöppöjä\, jotka on hyvä ottaa huomioon kun kauppaa alkaa suunnitella.\n\n10.00 - 11.00\nYrittäjien kokemuksia\nKahden pk-yrityksen kokemuksia verkkokaupan perustamisesta.\nWebinaarin esiintyjät\nWebinaarissa verkkokaupan teknisiä haasteita esittelee Antti Syrjä.\n\nAntti Syrjä on tamperelainen verkkoviestinnän asiantuntija. Hänellä on yli kahdeksantoista vuoden kokemus erilaisten  verkkosivustojen ja verkkopalveluiden kehittämisestä. Antti on erikoistunut WordPressillä tehtyihin sivustoihin. Verkkokaupat hän toteuttaa WooCommercella.\nVerkkokauppojen parissa Antin osaamista ovat räätälöidyt toteutukset\, joissa on ratkaistu jotain normaalista poikkeavia ongelmia. Osuudessaan hän käyttää esimerkkeinä näitä vastaantulleita caseja.\nLisätietoja Antti Syrjän yrityksestä https://www.interactive.fi\nDigiHyöty-hanke\nVinkeä verkkokauppa -webinaari liittyy Työtehoseuran\, Työterveyslaitoksen ja TIEKE Tietoyhteiskunnan kehittämiskeskus ry:n yhdessä toteuttamaan DigiHyöty-hankkeeseen\, jota rahoittaa Euroopan sosiaalirahasto (ESR).\nDigiHyöty-hankkeessa lisätään pienten ja keskisuurten yritysten osaamista digitaalisten tietojärjestelmien käyttämiseen. Digitaalisten järjestelmien käytön sujuvuus parantaa yritysten tuottavuutta sekä koko henkilöstön jaksamista ja työhyvinvointia. Hanke on suunnattu Uudenmaan\, Etelä-Karjalan\, Kymenlaakson\, Päijät- ja Kanta-Hämeen maakuntien mikro- ja pk-yrityksille.\nWebinaari toteutetaan Zoom-verkkokokoustyökalulla. Osallistumista varten sinulla ei tarvitse olla käyttäjätunnusta Zoomiin. Kun osallistut tähän tapahtumaan\, nimesi voi näkyä muille osallistujille ja hetkellisesti myös mahdollisella tallenteella. Osallistumalla tapahtumaan hyväksyt tämän kokemuksen. Joissakin tapahtumissa osallistujanimen voi itse vaihtaa.\nOhjeet Zoom-palvelun käyttämiseen löytyvät: https://tieke.fi/zoom-ohje/. \nWebinaari on osallistujille maksuton. \nTervetuloa mukaan!\nJos et päässyt mukaan edelliseen webinaariin\, Oletko sopivasti somessa? voit katsoa esitykset täältä!
LOCATION:Verkko (Zoom)
URL:http://tapahtumat.tieke.fi/event/npBVw
END:VEVENT
END:VCALENDAR
