BEGIN:VCALENDAR
METHOD:PUBLISH
VERSION:2.0
PRODID:-//Eventilla iCal Syndication//NONSGML Liana//EN
BEGIN:VEVENT
UID:ng50d@eventilla.com
DTSTAMP:20201119T120000Z
DTSTART:20201119T120000Z
DTEND:20201119T130000Z
SUMMARY:Badge Finland webinaari: OKO! – osallisuus\, kokemuksellisuus ja osaaminen näkyväksi
DESCRIPTION:OKO! – osallisuus\, kokemuksellisuus ja osaaminen näkyväksi\nHeikki Koponen ja Tuija Salminen Liikelaitos Otaviasta kertovat OKO! - osallisuus\, kokemuksellisuus ja osaaminen näkyväksi -hankkeesta\, jonka tavoitteena on rakentaa nuorten aikuisten lukiokoulutukseen oppimisen organisoimisen tapoja\, jotka sitouttavat opiskeluun ja tarjoavat opiskelijalle välttämättömiä jatko-opinto- ja työelämävalmiuksia jo aikuislukio-opintojen aikana.\nHankkeessa suunnitellaan\, toteutetaan ja myönnetään myös digitaalisia osaamismerkkejä. Opiskelijat otetaan mukaan jo osaamismerkkien suunnittelutyöhön.\nLisätietoja hankkeen verkkosivulta\nIlmoittaudu webinaariin
LOCATION:Verkko
URL:http://tapahtumat.tieke.fi/event/ng50d
END:VEVENT
END:VCALENDAR
