BEGIN:VCALENDAR
METHOD:PUBLISH
VERSION:2.0
PRODID:-//Eventilla iCal Syndication//NONSGML Liana//EN
BEGIN:VEVENT
UID:ng4kV@eventilla.com
DTSTAMP:20211020T060000Z
DTSTART:20211020T060000Z
DTEND:20211020T070000Z
SUMMARY:GDPR2DSM-webinaari: Pk-yritysten tyypillisimmät tietosuojahaasteet
DESCRIPTION:GDPR2DSM-webinaari: Pk-yritysten tyypillisimmät tietosuojahaasteet \nJokainen pk-yritys kohtaa jossain määrin yksilöllisiä tietosuojahaasteita\, mutta silti suurin osa yrityksistä painii samankaltaisten asioiden parissa. Webinaarissa tarjotaan yleiskatsaus pk-yritysten yleisimpiin tietosuojahaasteisiin.\nWebinaarin ohjelma\n9.00-9.05 Hankkeen ajankohtaisia asioita | Tietosuojavaltuutetun toimisto ja TIEKE9.05-9.50 Pk-yritysten tyypillisimmät tietosuojahaasteet - Citruksen kokemuksia kentältä | Petteri Salokangas\, Citrus Solutions Oy9.50-10.00 Kysymyksiä ja keskustelua\n\nPetteri Salokangas on Asiakkuuspäällikkönä Citrus Solutions Oy:ssä\, ja vastaa Citruksen MyGDPR-palvelusta\, jolla on pystytty auttamaan varsinkin PK-sektorin yrityksiä tietosuojalain vaatimusten kanssa.\nLinkki palvelun esittelyyn.\nIlmoittautuminen\nTapahtuma toteutetaan verkossa Teams-palvelussa\, ja ilmoittautuneet saavat osallistumislinkin sähköpostitse.Kun osallistut tähän tapahtumaan\, nimesi voi näkyä muille osallistujille ja hetkellisesti myös mahdollisella tallenteella. Osallistumalla tapahtumaan hyväksyt tämän kokemuksen. Joissakin tapahtumissa osallistujanimen voi itse vaihtaa.GDPR2DSM-hanke tarjoaa mikro- ja pk-yrityksille tietoa ja työkaluja tietosuojasta huolehtimiseen. Hanketta rahoittaa Euroopan unionin Perusoikeudet\, tasa-arvo ja kansalaisuus -ohjelma (Rights\, Equality and Citizenship Programme). Webinaarin sisältö edustaa esiintyjän näkemyksiä ja esiintyjä on niistä vastuussa. Euroopan komissio ei ole vastuussa tämän webinaarin sisältämästä informaatiosta tai sen käytöstä.Lisätietoa hankkeesta\nHankkeen tietosuojaseloste
LOCATION:Verkko (Teams)
URL:http://tapahtumat.tieke.fi/event/ng4kV
END:VEVENT
END:VCALENDAR
