BEGIN:VCALENDAR
METHOD:PUBLISH
VERSION:2.0
PRODID:-//Eventilla iCal Syndication//NONSGML Liana//EN
BEGIN:VEVENT
UID:nKRoD@eventilla.com
DTSTAMP:20200914T061500Z
DTSTART:20200914T061500Z
DTEND:20200914T140000Z
SUMMARY:EDI-käyttöönottokurssi
DESCRIPTION:Sinustako EDI-asiantuntija?\n \nOnko yrityksessäsi käytössä UN/EDIFACT-standardiin perustuva sähköinen tiedonsiirto? Onko vanha EDI-konkari siirtymässä täysin palvelleena eläkkeelle? Oletko sinä astumassa hänen saappaisiinsa? Mitkä ovat EDI-valmiutesi?\nYK:n talouskomissio julkaisi ensimmäisen UN/EDIFACT-hakemiston vuonna 1987. Siitä lähti kehitys\, joka mullisti yritysten välisen kaupan asiakirjojen tiedon välityksen. EDIFACT-standardin mukaisten sanomien avulla yritykset alkoivat siirtää partnereittensa kanssa sähköisesti tilauksia\, tilausvahvistuksia\, lähetysluetteloja\, laskua sekä kuljetukseen liittyviä asiapapereita\, kuten rahtikirjoja. Mutta kehitys ei pysähtynyt tähän. Sähköinen tiedonsiirto valtasi alaa mm. maksuliikenteessä\, tullauksessa ja terveystietojen välityksessä. Sähköisen tiedonsiirron tuomat hyödyt yrityksille olivat huomattavia niin toiminnan kehittämisen\, tietojen vaihdon nopeuden kuin myös virheiden vähenemisen osalta.\nSuomalainen sähköinen tiedonsiirto on nyt tullut tilanteeseen\, jossa aikoinaan EDI-asiantuntijoiksi kouluttautuneet ja kasvaneen henkilöt ovat eläköitymässä. Sähköinen tiedonsiirto ei yrityksissä kuitenkaan jää eläkkeelle asiantuntijoiden mukana. Uusia osaajia tarvitaan. Ja vaikka XML-pohjainen tiedonsiirto on vallannut alaa Internetin myötä\, ovat UN/EDIFACT-pohjaiset ratkaisut edelleen toimivia ja tehokkaita.\nDI Vesa Parkkari yhdessä TIEKE ry:n kanssa järjestää EDI-asiantuntijoiksi aikoville henkilöille tarkoitetun kurssin ”EDI-käyttöönotto”. Kurssilla osanottaja saa rautaisannoksen tietoa toimiakseen EDI-asiantuntijana organisaatiossaan. Kouluttajana toimii DI Vesa Parkkari\, Nabeina Oy sekä Heikki Laaksamo TIEKE ry:stä.\nHUOM! Aiemmasta ilmoituksesta poiketen kurssi järjestetään korona-tilanteen vuoksi etäopetuksena Microsoft Teams-tapahtumana 14.9.2020. Linkki Teams-tapahtumaan lähetetään kurssille ilmoittautuneille muutamia päiviä ennen tilaisuutta.\nKurssin hinta 890 € + alv\, mikä pitää sisällään koulutuksen ja kurssimateriaalin.\nHUOM! Jos osallistumisesi kurssille ilmoittautumisen jälkeen estyy\, pyydämme sinua perumaan osallistumisesi viimeistään keskiviikona 9.9.2020\, jolloin sinulta ei peritä kurssimaksua. Tämän jälkeen tehdyistä peruutuksista peritään normaali kurssimaksu.\nKurssin ohjelma:\n  9.15 Tilaisuuteen kirjautuminen ja yhteyksien testaus\n  9.30 EDI\, Organisaatioiden välinen tiedonsiirto\n     - Idea\, merkitys\, käyttö\, käyttöönotto\n     - OVT-malli ja -järjestelmämalli\n     - Sovellusliityntä\, muunnin\, kuljetus\n     - Tietoyhteydet ja osapuolet\n10.30 EDI-kehystys ja -kielioppi\n     - Edifact-kielioppi\, kehystys\n     - Kuljetuskehys\, CON-kuittaus\n     - Lähetyskerta- ja sanomasaatteet\n     - Sanoman laatikkokaavioesitys\n     - Tiivistys\, sisennys\, toistot\n     - Segmentti- ja elementtihakemistot\n     - Kuittaukset - mitkä tarvitaan?\n11.45 EDI-kuljetus ja verkkoyhteydet\n     - Kuljetus manuaalisesti\n     - FTP\, Internet-posti\, X.400\, yhdysväylät\n     - Kuittaukset\, nopeus\, palveluverkot\n12.00 Lounastauko\n13.00 Tietoyhteydestä sopiminen\n     - Relevantumin ja Keskon välinen EDI-yhteys\n     - Verkkoyhteyksistä\, kuljetusmenettelystä ja\n     - lähetyskertaparametreista sopiminen.\n     - Invoic-laskusanoman osajoukon suunnittelu\,\n     - Segmenttien ja elementtien käyttö\n14.00 Laskuyhteyden rakentaminen TradeXpressillä\n     - TradeXpress EDI-järjestelmä\n     - Sanoman osajoukon rakentaminen\n     - EDI-osapuoliparametrien syöttö\n     - EDI-liikenteen hallinta\n14.30 Tauko\n14.45 Sovitus ja muunnos\n     - Tietosisältösovituksen vaihtoehdot\n     - Sovelluksen vai EDI:n ehdoilla?\n     - In-house-tiedostorakenteita\n     - Muuntimen toteutustapoja\n     - Poimintaohjelman toteutus\n15.30 X.435\, turvallisuus ja sopimukset\n     - Vastuunsiirto\, laajennettu kuittaus\n     - Nykyisen EDI:n turvallisuus\n     - Turvapalvelut\, PGP\n     - Tekninen ja juridinen EDI-sopimus\n16.00 TIEKEn EDI-palvelut (Heikki Laaksamo\, TIEKE)\n     - Verkottaja-palvelun esittely\nVarsinainen ilmoittautumisaika on päättynyt. Jälki-ilmoittautumiset sähköpostitse: heikki.laaksamo@tieke.fi
LOCATION:Teams
URL:http://tapahtumat.tieke.fi/event/nKRoD
END:VEVENT
END:VCALENDAR
