BEGIN:VCALENDAR
METHOD:PUBLISH
VERSION:2.0
PRODID:-//Eventilla iCal Syndication//NONSGML Liana//EN
BEGIN:VEVENT
UID:l03yg@eventilla.com
DTSTAMP:20220125T110000Z
DTSTART:20220125T110000Z
DTEND:20220126T120000Z
SUMMARY:Osuvat taidot -kouluttajakoulutuksen webinaarisarja
DESCRIPTION:Digitaitojen osaamismerkistön-kouluttajakoulutus\nKouluttajakoulutus tukee opettajien ja kouluttajien toimintaa Osuvat taidot osaamismerkkien parissa. Kouluttajakoulutuksen suorittaa jokainen henkilö\, joka organisaatiossa arvioi saapuvia digitaito-osaamismerkkihakemuksia.\nKouluttajakoulutuksen osaaminen todennetaan osaamismerkkihakemusten avulla.\nKouluttajakoulutus sisältää kolme osaa\, valitse mihin ilmoittaudut:\n\ntiistai 25.1. klo 13 – 14: Digitaaliset osaamismerkit\ntiistai 25.1. klo 14 – 15: Osaamismerkkiohjelmistot OBF ja OBP\nkeskiviikko 26.1. klo 13 – 14: Osuvat taidot -arvioija\n\nJos osaamismerkit ovat sinulle jo tuttuja\, voit osoittaa osien 1 ja 2 hallinnan suoraan merkkihakemuksilla. Kolmas osio on pakollinen kaikille Osuvat taidot -osaamismerkkejä arvioiville.\nKoulutus järjestetään Zoomissa\, osallistumislinkin saat vahvistusviestissä.
LOCATION:Verkko
URL:http://tapahtumat.tieke.fi/kouluttajakoulutus
END:VEVENT
END:VCALENDAR
