BEGIN:VCALENDAR
METHOD:PUBLISH
VERSION:2.0
PRODID:-//Eventilla iCal Syndication//NONSGML Liana//EN
BEGIN:VEVENT
UID:j15e8@eventilla.com
DTSTAMP:20200909T100000Z
DTSTART:20200909T100000Z
DTEND:20200909T110000Z
SUMMARY:DigiTähti-webinaari: Tiviittori- ja Visit Finlandin tasotestin esittely ja tekeminen
DESCRIPTION:DigiTähti-valmennuksilla edistetään matkailu- ja ravintola-alan digitalisaatiota ja vahvistetaan digiosaamista. Valmennuksilla tarjotaan alan yrityksille keinoja liiketoiminnan elvyttämiseen koronakriisin aikana ja varsinkin sen jälkeen.\nDigiTähti-webinaari 9.9.2020:\nTiviittori- ja Visit Finlandin tasotestien esittely ja tekeminen\nOman digiosaamisen ja -valmiuksien tunnistaminen on hyvä lähtökohta kehittämisen polulla.\nMiten saada käsitys todellisesta oman osaamisen ja yrityksen digivalmiuksien tasosta? Näihin kysymyksiin antaa opastusta DigiTähden toinen webinaari.\nWebinaarissa esitellään TIEKEn Tiviittori-testi henkilökohtaisen osaamisen kartoittamiseen ja Visit Finlandin Digiloikan ABC tasotesti yrityksen valmiuksien kartoittamiseen.\nDigiTähteen ilmoittautuneiden yritysten henkilökunnalle tarjotaan mahdollisuus tehdä Tiviittori-testi veloituksetta!\nSaat ilmoittautumisvahvistuksessa webinaarin linkin.\n\nMerja Sjöblom\, digiosaamisen vauhdittajaTIEKE Tietoyhteiskunnan kehittämiskeskus ry\nDigiosaamisen arvionti Tiviittorin avulla\n\nJari Salo\, DigiTähti-hankkeen kordinaattoriTIEKE Tietoyhteiskunnan kehittämiskeskus ry\nVisit Finlandin tasotesti\n 
LOCATION:Webinaari: linkki lähetetään ilmoittautneille
 vahvistusviestissä\, Suomi
URL:http://tapahtumat.tieke.fi/event/j15e8
END:VEVENT
END:VCALENDAR
