BEGIN:VCALENDAR
METHOD:PUBLISH
VERSION:2.0
PRODID:-//Eventilla iCal Syndication//NONSGML Liana//EN
BEGIN:VEVENT
UID:d1EAe@eventilla.com
DTSTAMP:20230823T110000Z
DTSTART:20230823T110000Z
DTEND:20230823T120000Z
SUMMARY:Badge Finland -webinaari: Digitaidot kuuluvat kaikille - opitaan yhdessä!
DESCRIPTION:Badge Finland -webinaari: Digitaidot kuuluvat kaikille - opitaan yhdessä!\nWebinaarissa Virpi Markkanen ja Ville Särkelä Opintokeskus Siviksestä ja Nina Hjelt KVS-säätiöstä kertovat\, miten Työelämän digitaidot kuntoon -hankkeessa kehitettiin digitaitoihin liittyvää opetusta ja oppimateriaalia. Kaikkien-malli on pedagogisena mallina koulutuksessa ja koulutuksilla pyritään oppijoiden arjen parantamiseen. Ville Särkelä jatkaa -hankkeen työn jalkauttamista järjestöihin Digitaidoilla parempaan työelämään -hankkeessa. Osaamisen osoittamisessa ja arvioinnissa hyödynnettiin valtakunnallista Digitaitojen osaamismerkistöä\, jonka käyttökokemuksista kuulemme myös.\nHankkeesta lisää verkkosivuilla Kaikkien mallin digikouluttajan aineistoon voit tutustua täällä>>\nTervetuloa mukaan! Webinaari on maksuton.\n**********\nBadge Finland on Open Badge -toimijoiden yhteinen verkosto\, jonka tavoitteena on levittää Open Badges -konseptiin liittyvää tietoa ja edistää organisaatioiden välistä yhteistyötä. Tutustu verkoston toimintaan verkkosivuilta ja liity mukaan!\nAikaisempien Badge Finland -webinaarien tallenteita on julkaistu TIEKEn Youtube-kanavan Badge Finland -soittolistalla.
LOCATION:Verkko
URL:http://tapahtumat.tieke.fi/event/d1EAe
END:VEVENT
END:VCALENDAR
