BEGIN:VCALENDAR
METHOD:PUBLISH
VERSION:2.0
PRODID:-//Eventilla iCal Syndication//NONSGML Liana//EN
BEGIN:VEVENT
UID:bJwyO@eventilla.com
DTSTAMP:20240516T120000Z
DTSTART:20240516T120000Z
DTEND:20240516T130000Z
SUMMARY:Verkkolaskuvisio 2030
DESCRIPTION:Webinaari: Verkkolaskuvisio 2030\nMihin oikein tähdätään vuoteen 2030 mennessä? Välillä on hyvä pysähtyä ja tarkistaa suunta mihin pitäisi mennä ja katsoa askelmerkit eteenpäin.\nVerkkolaskutus on laajalti käytössä Suomessa mutta parannettavaa on vielä paljon ja uudet haasteet odottavat monella suunnalla: kansainvälinen sähköinen laskunvälitys\, taloushallinnon automaation kehittäminen sekä EU:n tulevat vaatimuksen tuotteiden tietojen ilmoittamiselle eli tuotepassi. Näillä kaikilla on vahvat kytkentänsä verkkolaskuun. Ne vaativat pohdintaa.\nVisiota on työstetty viime talven aikana ja siitä on kerätty ideoita ja palautetta kahdessa työpajassa talven aikana.\nVerkkolaskufoorumissa on asetettu kolme päätavoitetta.\n\nKaikki organisaatioiden väliset laskut ovat verkkolaskuja 2030\nKaikki liiketoimintasanomat kulkevat sähköisesti 2030\nVerkkolasku tunnistetaan merkittäväksi datalähteeksi ja laskulla olevan datan jalostaminen ja louhiminen on mahdollista eri tarkoituksiin vuonna 2030\n\nTule kuulemaan ja keskustelemaan mitä nämä tavoitteet käytännössä tarkoittavat ja mitä pitäisi tehdä lähitulevaisuudessa.\nPuhujat\nTomi Rusi\, ValtiokonttoriVerkkolaskufoorumin ohjausryhmän puheenjohtaja.Tomilla on 10 vuoden kokemus valtion menojen käsittelyn prosesseista sekä automatisoinnista. Parhaillaan Tomi toimii Yrityksen digitalous -hankkeessa verkkolaskuasiantuntijana\, edistäen verkkolaskutuksen osuuden kasvua Suomessa.\nTimo Simell\, TIEKEVerkkolaskufoorumin ohjausryhmän sihteeri. Vastaa TIEKEssä verkkolaskufoorumin ja verkkolaskuosoitteiston toiminnasta.\n \nTilaisuus on maksuton.\nTervetuloa!\n \nVerkkolaskufoorumi\nVerkkolaskufoorumi kehittää verkkolaskun käyttöä ja käyttöympäristöä Suomessa. Verkkolaskufoorumissa ovat mukana verkkolaskun käyttäjät\, välittäjät ja ohjelmistotalot.\nLisätietoja verkkolaskufoorumista\nLisätietoja verkkolaskusta\n 
LOCATION:Teams
URL:http://tapahtumat.tieke.fi/verkkolaskuvisio2030
END:VEVENT
END:VCALENDAR
