BEGIN:VCALENDAR
METHOD:PUBLISH
VERSION:2.0
PRODID:-//Eventilla iCal Syndication//NONSGML Liana//EN
BEGIN:VEVENT
UID:ZPVdk@eventilla.com
DTSTAMP:20230830T060000Z
DTSTART:20230830T060000Z
DTEND:20230830T070000Z
SUMMARY:Webinaari: Tietoturvaa ei voi kokonaan ulkoistaa
DESCRIPTION:Osa tietoturvariskeistä johtuu inhimillisistä virheistä\, mutta minkälaisilla toimenpiteillä organisaation johto voi huolehtia tietoturvan toteutumisesta? Webinaarissa tutustutaan tietoturvan perusteisiin sekä keskeisiin organisaation varautumistapoihin. Webinaaritallenne Youtubessa\nEsitys (pdf)\nSisältö ja ohjelma\nWebinaarissa perehdymme tietoturvan perusteisiin ja käsittelemme mm. seuraavia aiheita.\n\nTietoturvatehtävät voi ulkoistaa\, mutta vastuuta ei.\nMinkälaisia ovat keskeiset tietoturvariskit yrityksille ja yhteisöille?\nMiten organisaatioissa voidaan varautua tietoturvariskeihin?\n\n9.00–09.50 Tietoturva - organisaation riskit ja ratkaisutTimo Simell | TIEKE | Digivirittäjä9.50–10.00 Kysymyksiä ja keskustelua\n\nTimo SimelldigivirittäjäTIEKE\n- - - \nDigiosaavat yritykset ja yhteisöt Keski-Suomessa -hankkeessa toteutetaan webinaareja mm. tietosuojasta ja tietoturvasta. Tapahtumat on suunnattu erityisesti Keski-Suomen mikro-ja pk-yrityksille sekä yhdistyksille\, mutta tervetulleita ovat myös muiden yritysten\, yhteisöjen sekä tutkimus-\, koulutus- ja kehitysorganisaatioiden edustajat yli toimialarajojen. Kevään webinaarien tallenteet löytyvät hankkeen soittolistalta TIEKEn YouTube-kanavalla: \nHankkeen Youtube-soittolista\n- - - \nKun osallistut tähän tapahtumaan\, nimesi voi näkyä muille osallistujille ja hetkellisesti myös mahdollisella tallenteella. Osallistumalla tapahtumaan hyväksyt tämän kokemuksen. Joissakin tapahtumissa osallistujanimen voi itse vaihtaa.\nOsallistuminen on maksutonta.\nTapahtuman järjestää Jyväskylän ammattikorkeakoulun ja TIEKEn DiyKS - Digiosaavat yritykset ja yhteisöt Keski-Suomessa -hanke. Hanketta rahoittaa Euroopan maaseudun kehittämisen maatalousrahasto.\nLisätietoa DiyKS-hankkeesta
LOCATION:Verkko / Teams\, Suomi
URL:http://tapahtumat.tieke.fi/event/ZPVdk
END:VEVENT
END:VCALENDAR
