BEGIN:VCALENDAR
METHOD:PUBLISH
VERSION:2.0
PRODID:-//Eventilla iCal Syndication//NONSGML Liana//EN
BEGIN:VEVENT
UID:Z7JwK@eventilla.com
DTSTAMP:20251114T063000Z
DTSTART:20251114T063000Z
DTEND:20251114T073000Z
SUMMARY:AamuAreena 14.11.2025 - Vastuullisen digitalisaation osaamista kehittämässä
DESCRIPTION:Vastuullisen digitalisaation osaamista kehittämässä \nMiten osaamista kehitetään vastuullisen digitalisaation saralla ja mitä ylipäätään on vastuullinen digitalisaatio? Marraskuun AamuAreenassa pureudumme konkreettisiin menetelmiin ja esimerkkeihin\, joiden avulla TIEKE tukee yrityksiä\, oppilaitoksia\, järjestöjä ja julkisen sektorin toimijoita osaamisen kehittämisessä. Tapahtumassa esitellään erilaisia valmennuksia\, osaamismerkkejä\, sparrauksia ja maksuttomia työkaluja sekä kerrotaan\, miten menetelmät valitaan eri kohderyhmille.\nRatkaisuna nostamme esiin kolme ajankohtaista hanketta: Eettinen digitalisaatio järjestöissä\, GreenICTComp sekä DataVa – Datatalousosaamisella vastuullista kilpailukykyä. Jaamme vinkkejä hyväksi havaituista menetelmistä sekä kuulemme osallistujakokemuksia.\nTule kuulemaan ja keskustelemaan\, miten TIEKEn hankkeet ja osaamisen kehittämisen palvelut voivat tukea juuri sinun organisaatiotasi! Tapahtuma sopii erityisesti osaamisen kehittämisestä vastaaville sekä kaikille\, jotka etsivät uusia tapoja vahvistaa vastuullista digiosaamista.\nTervetuloa mukaan!\n8.30–8.40Avaus ja tervetuloa\nMiksi vastuullinen digitalisaatio ja osaamisen kehittäminen sen saralla ovat ajankohtaisia?\nKatso tallenne tästä \n \n8.40–9.20Kolme ratkaisua vastuullisen digiosaamisen kehittämiseen\n\nJärjestöille osaamista teknologian vastuulliseen hyödyntämiseen - case Viisi näkökulmaan eettiseen digitalisaatioon    - Anne Puolanne\, Audiovisual Producers Finland - APFI ja Hanna Vuohelainen\, TIEKEKatso tallenne tästä \nOpetushenkilöstön kestävän digitalisaation osaamista kehittämässä - case GreenICTComp    - Nina Rostén\, Haaga-Helia ammattikorkeakoulu ja Antti Sipilä\, TIEKEKatso tallenne tästä \nDatatalousosaamisella vastuullista kilpailukykyä pk-yrityksille – case DataVa    - Kirsi Suopelto\, One4all ja Mikko Eloholma\, TIEKEKatso tallenne tästä \n\n \n9.20–9.30Keskustelu ja kysymykset\nTapahtumassa mukana\n\nAnne Puolanne\, Audiovisual Producers Finland - APFI\nAnne Puolanne on elokuva- ja tv-alan ammattilainen\, jonka ydinosaamista ovat niin tuotantojen tekeminen kuin alan ekologinen vastuullisuus. Vuodesta 2021 hän on työskennellyt hankepäällikkönä Audiovisual Producers Finland - APFI ry -edunvalvontajärjestössä. APFI:n vetämän Kestävän kehityksen strategian tavoitteena on luoda ekologisempaa työkulttuuria Suomen elokuva- ja tv-alalle. Puolanne on tuottanut alalle lukuisia raportteja keskittyen niin tuotantoihin kuin sisältöihin kuin myös koko toimialaan.\n\nHanna Vuohelainen\, TIEKE\nHannalla on kokemusta lukuisista organisaatioiden ja yksilöiden digikyvykkyyksien kehittämisprojekteista ja verkostoista. Hanna on TIEKEn viestinnästä vastaava ammattilainen\, joka on perehtynyt myös järjestöjen digitalisaatioon\, palvelukehitykseen sekä oppimista edistäviin teknologioihin.\n\nNina Rostén\, Haaga-Helia ammattikorkeakoulu\nNina Rostén toimii Haaga-Heliassa IT-tradenomien lehtorina ja ICT ja liiketoiminta -tiimin kestävän kehityksen koordinaattorina. Hän varmistaa\, että kestävä kehitys on luonteva osa opintojen sisältöjä ja opetuskäytänteitä. Green ICT Comp -sertifioituna opettajana Nina edistää vastuullisen teknologian ja kestävän ajattelun integroimista korkeakouluopetukseen. Hänen työnsä ytimessä on halu yhdistää liiketoiminnan kehittäminen\, teknologinen ymmärrys ja inhimillinen näkökulma – uskoen siihen\, että kestävä tulevaisuus rakentuu sekä rakenteellisista ratkaisuista että ajattelun muutoksesta.\n\nAntti Sipilä\, TIEKE\nAntti Sipilä toimii TIEKEssä Green ICT -asiantuntijana. Antti vastaa Green ICT -hanketyöstä ja Green ICT -ekosysteemin kehittämisestä. Aiemmin hän on tehnyt ICT-hankintoja julkishallinnossa ja toiminut pk-yrityksessä hankintakonsulttina. \n\nKirsi Suopelto\, One4all\nKirsillä on monipuolinen kokemus erilaisten liiketoimintojen johtamisesta ja kehittämisestä muutostilanteissa\, joihin hän on tuonut erityisesti finanssi- ja rahoitusalan sekä juridisen osaamisensa. Tällä hetkellä Kirsi työskentelee asumisen digitaalisten palveluiden edistämiseksi One4all Finland Oy:n toimitusjohtajana. Erityisesti digitalisaatio\, innovaatiot sekä liiketoiminnan kestävyys ovat Kirsin mielenkiinnon kohteina.\n\nMikko Eloholma\, TIEKE\nDataosaamisen kehittäjä Mikko Eloholma on kehittänyt digitaalista perusosaamista ja erityisesti tietosuojaan ja tietoturvaan liittyvää osaamista muun muassa nuorten\, opettajien ja pk-yritysten parissa.
LOCATION:Webinaari\, Suomi
URL:http://tapahtumat.tieke.fi/event/Z7JwK
END:VEVENT
END:VCALENDAR
