BEGIN:VCALENDAR
METHOD:PUBLISH
VERSION:2.0
PRODID:-//Eventilla iCal Syndication//NONSGML Liana//EN
BEGIN:VEVENT
UID:Y7V9r@eventilla.com
DTSTAMP:20230524T140000Z
DTSTART:20230524T140000Z
DTEND:20231215T215900Z
SUMMARY:Näytä digitaidot osaamismerkeillä
DESCRIPTION:Digitaitojen osaamismerkit ovat oiva tapa tunnistaa ja tunnustaa eri tavoin - opinnoissa\, työssä ja vapaa-ajalla - hankittua digiosaamista. DiyKS - Digiosaavat yritykset ja yhteisöt Keski-Suomessa -hankkeessa tarjoamme Keski-Suomen alueella toimiville mahdollisuuden maksutta suorittaa valtakunnallisia digitaitojen osaamismerkkejä. \nNäin suoritat digitaitomerkkejä DiyKS-hankkeessa -video (kesto 5:31)\nDigitaitojen osaamismerkistö koostuu kymmenestä osaamismerkistä ja viidestä koontimerkistä. Koontimerkin saa aina\, kun kyseisen osaamistason kaikki osaamismerkit ja edellisen tason koontimerkki on suoritettu hyväksytysti.\nOsaamismerkkejä haetaan osaamismerkkihakemuksilla. Merkit voi suorittaa haluamassaan järjestyksessä\, mutta luontevaa on edetä portaittain. Myönnetyt osaamismerkit kerätään maksuttomaan Open Badge Passport -palveluun\, jonne voit kerätä myös muiden toimijoiden myöntämiä osaamismerkkejä. \nNäin näytät digiosaamisesi DiyKS-hankkeen yhteydessä: \n\nIlmoittaudu sivun alalaidassa olevalla lomakkeella.\nSaat vastausviestissä linkit merkkihakemuksiin.\nTee merkkihakemuksella olevat tehtävät ja palauta hakemus sähköisesti.\nOsaamismerkkihakemus arvioidaan\n\n\n\n\nHyväksytty\, hylätty tai pyydetty täydentämään\nHyväksytyt osaamismerkit otetaan vastaan Open Badge PassportissaMerkkihakemusten arvioinnissa kannattaa varsinkin kiireaikoina varautua muutaman päivän viiveeseen.\n\n\n\n\nRekisteröidy Open Badge Passportiin ja vastaanota saamasi osaamismerkit.\n\n"Osaamismerkkipassi" on maksuton pilvipalvelu\, josta on olemassa myös mobiilisovellus.\nVastaanotetut merkit voit halutessasi avata julkiseksi ja jakaa eteenpäin\, esim. linkkinä tai sosiaalisen median palveluihin\, kuten LinkedIniin.\n\n\n \nLue lisää digitaitojen osaamismerkistöstä\n \nLisätiedot: Hanna Vuohelainendigiosaamisen ja viestinnän vauhdittaja\, TIEKEHannan yhteystiedot täällä\n \nDigitaitojen osaamismerkkien suoritusmahdollisuuden tarjoaa Jyväskylän ammattikorkeakoulun ja TIEKEn DiyKS - Digiosaavat yritykset ja yhteisöt Keski-Suomessa -hanke. Hanketta rahoittaa Euroopan maaseudun kehittämisen maatalousrahasto.\nDiyKS-hankkeessa järjestettävät webinaarit ja digipiirit tukevat osaamismerkkien sisältöjen omaksumista. 
LOCATION:Verkossa\, Suomi
URL:http://tapahtumat.tieke.fi/diyks-digitaitomerkit
END:VEVENT
END:VCALENDAR
