BEGIN:VCALENDAR
METHOD:PUBLISH
VERSION:2.0
PRODID:-//Eventilla iCal Syndication//NONSGML Liana//EN
BEGIN:VEVENT
UID:XpXbO@eventilla.com
DTSTAMP:20250520T060000Z
DTSTART:20250520T060000Z
DTEND:20250520T073000Z
SUMMARY:Eettinen digitalisaatio järjestöissä: Palvelumuotoilu
DESCRIPTION:Eettinen palvelumuotoilu – kohti yhdenvertaisempia palveluja\nMiten palvelumuotoilu voi edistää yhdenvertaisuutta ja varmistaa\, että kaikkia palvellaan oikeudenmukaisesti?\nSarjan viimeisessä webinaarissa syvennymme eettiseen palvelumuotoiluun ja sen merkitykseen erityisesti järjestötoiminnassa. Tässä webinaarissa käsitellään palvelumuotoilua järjestöjen näkökulmasta mm. seuraavien kysymysten kautta:\n\nMitä on palvelumuotoilu\, ja miten se voi auttaa järjestöjä ottamaan asiakkaansa huomioon paremmin? \nKuinka eettinen palvelumuotoilu voi auttaa kehittämään saavutettavampia ja yhdenvertaisempia palveluja?\nKäytännön vinkkejä eettiseen palvelumuotoiluun - esittelyssä Goforen eettisen muotoilun opas.\nEsimerkkitapaus palvelumuotoilusta järjestötyössä\n\nTule mukaan oppimaan ja keskustelemaan siitä\, miten voimme suunnitella palveluja\, jotka todella palvelevat kaikkia!\nOhjelma\n\n09:00 - 09:15: Johdanto teemaan ja katsaus Järjestödigi-kartoituksen tuloksiin | Hanna Vuohelainen\, TIEKE\n09:15 - 10:00: Eettinen palvelumuotoilu – kohti yhdenvertaisempia palveluja | Michelle Sahal Estimé\, Gofore\n10:00 - 10:20: Palvelumuotoilu lastensuojelun kehittämisyhteisö Pesäpuu ry:n tukena | Hanna Teriö\, Pesäpuu ry\nYhteenveto ja seuraavat askeleet\n\n\nHanna VuohelainenDigiosaamisen ja viestinnän vauhdittaja\, Eettinen digitalisaatio järjestöissä -hankkeen projektipäällikkö\, TIEKE\n\nMichelle Sahal Estimé\,Vanhempi palvelumuotoilija\, Gofore\nLisätietoja\nOsallistuminen on maksutonta. Webinaari toteutetaan Microsoft Teams -alustalla. Osallistujanimesi näkyy tapahtuman aikana muille osallistujille\, mutta ei tule näkyviin tallenteelle.\nViisi näkökulmaa eettiseen digitalisaatioon suomalaiselle järjestökentälle\nHankkeessa autamme järjestöjä arvojen mukaisen digitalisaation polulla avaamalla eettisen digitalisaation mahdollisuuksia ja siihen liittyviä kysymyksiä viiden näkökulman kautta. Hanketta rahoittaa Gofore Impact säätiö sr. Jokaisesta viidestä näkökulmasta järjestetään maksuton webinaari keväällä 2025. Luvassa on myös opas\, joka tulee sisältämään mm. yhdistyksen hallituksen eettisen digitalisaation tarkastuslistan sekä jäsenistön kanssa teemoja avaavien keskustelujen työpajakonseptin. \nSaat tiedot tapahtumista sekä tulevista julkaisuista sähköpostiisi\, kun ilmoittaudut tiedotuslistalle tästä linkistä: https://tapahtumat.tieke.fi/eettinenjarjestodigi\n\nto 13.3. datavastuullisuus\nti 25.3. tekoäly\nto 10.4. tietosuoja ja regulaatio\nti 29.4. kestävyys\nti 20.5. palvelumuotoilu\n
LOCATION:Verkko
URL:http://tapahtumat.tieke.fi/event/XpXbO
END:VEVENT
END:VCALENDAR
