BEGIN:VCALENDAR
METHOD:PUBLISH
VERSION:2.0
PRODID:-//Eventilla iCal Syndication//NONSGML Liana//EN
BEGIN:VEVENT
UID:RGYQK@eventilla.com
DTSTAMP:20260414T070000Z
DTSTART:20260414T070000Z
DTEND:20260414T080000Z
SUMMARY:Data-avaruuksien työkalupakki
DESCRIPTION:Miten tunnistaa datan jakamisen liiketoimintahyötyjä yhdessä muiden kanssa? Minkälaisista vaiheista data-avaruuden kehittäminen koostuu? Kaipaatko valmiita työkaluja dataekosysteemin rakentamiseen ja operointiin?\nEsimerkiksi teollisuudessa ja kiertotaloudessa on jatkuvasti enemmän tarvetta sille\, että toimijat voisivat jakaa ja vaihtaa dataa yhteisten pelisääntöjen mukaisesti. EU:ssa on panostettu paljon data-avaruuksiin\, jotka ovat hajautettuja järjestelmiä datan luotettavaan ja turvalliseen yhteis- ja uusiokäyttöön.  \nJotta näitä data-avaruuksia voidaan rakentaa nopeammin ja laadukkaammin\, saatavilla on valmiita malleja ja työkaluja työtä helpottamaan. \nDSSC Blueprint on Data Spaces Support Centerin (DSSC) viitekehys ja käsikirja kaikille\, jotka suunnittelevat tai toteuttavat data-avaruuksia. Se tarjoaa selkeän mallin ja työkaluja siihen\, miten data-avaruuksia kannattaa ja voi rakentaa ottaen huomioon sekä tekniset\, organisatoriset että liiketoiminnalliset seikat. \nWebinaarissa esitellään blueprintin juuri julkaistu uusin versio (v3) sekä siihen kytkeytyvä\, suomennettu työkalupakki. Suomenkieliseen työkalupakkiin pääset siirtymään tästä linkistä. \nLisäksi saamme käytännön esimerkin siitä\, miten data-avaruuksien työkalupakkia on hyödynnetty: miten yritys tai muu organisaatio voi soveltaa työkaluja omassa kehitystyössään ja mitä hyötyjä ne tuovat data-avaruuden suunnitteluun ja toteutukseen.  \nWebinaarin ohjelma 14.4.\n10.00 Tervetulosanat | DataVa-hankkeen projektipäällikkö Mikko Eloholma\, TIEKE \n10.05 Data-avaruuksien blueprint (DSSC v3) | Senior Data Strategist Viivi Lähteenoja\, 1001 Lakes\n10.20 Data-avaruuksien työkalupakin demo | datatieteilijä Petra Pienimäki\, 1001 Lakes \n10.30 Työkalupakin käyttäjätarina\n10.45 Kysymyksiä ja keskustelua\n11.00 Tilaisuus päättyy\nWebinaarin tallenne \n\nViivi LähteenojaSenior Data Strategist1001 Lakes\nPetra Pienimäkidatatieteilijä1001 Lakes\nLisätietoa\nWebinaari on osa DataVa-hankkeen toimintaa\, joka auttaa Uudenmaan valmistavan teollisuuden sekä ICT-alan pk-yrityksiä hyödyntämään datatalouden ja data-avaruuksien tuomia mahdollisuuksia sekä uusia datalähtöisiä liiketoimintamalleja. \nLue lisää hankkeesta\nKun osallistut tähän tapahtumaan\, nimesi voi näkyä muille osallistujille sekä osittain mahdollisella tallenteella. Osallistumalla tapahtumaan hyväksyt tämän kokemuksen. Joissakin tapahtumissa osallistujanimen voi itse vaihtaa.\n\n 
LOCATION:Webinaari (Teams)
URL:http://tapahtumat.tieke.fi/event/RGYQK
END:VEVENT
END:VCALENDAR
