BEGIN:VCALENDAR
METHOD:PUBLISH
VERSION:2.0
PRODID:-//Eventilla iCal Syndication//NONSGML Liana//EN
BEGIN:VEVENT
UID:Ly8AB@eventilla.com
DTSTAMP:20240216T063000Z
DTSTART:20240216T063000Z
DTEND:20240216T073000Z
SUMMARY:AamuAreena 16.2.2024: Digitaalinen tuotepassi ja PEPPOL
DESCRIPTION:Digitaalinen tuotepassi sisältää tuotteeseen liittyvät tiedot\, jotka ovat loppukäyttäjän saatavilla digitaalisesti\, eli esimerkiksi QR-koodin kautta skannaamalla. Tuotepassi toimii virtuaalisena esittely- ja tietolähteenä\, joka helpottaa tuotteiden tunnistamista\, vertailua ja seurantaa. Digitaalinen tuotepassi on myös osa Euroopan komission uutta kiertotaloutta koskevaa sääntelypakettia\, sen käyttöönottoa edellytetään lähes kaikissa EU:ssa valmistetuissa ja unionin alueelle tuoduissa tuotteissa vuoteen 2030 mennessä. \nPEPPOL on eurooppalainen standardi\, jonka tavoitteena on helpottaa sähköistä liiketoimintaa ja julkisia hankintoja Euroopassa. Se on suunniteltu helpottamaan yritysten ja julkisten organisaatioiden välistä sähköistä asiointia. PEPPOLin avulla organisaatiot voivat vaihtaa sähköisiä asiakirjoja\, kuten laskuja\, tilauksia ja toimitusilmoituksia\, standardoidussa muodossa ja rakenteisena. Kuinka PEPPOL -toimintamallia voisi hyödyntää tuotepassin vaatiman datan siirrossa ja samalla parantaa liiketoiminnan tehokkuutta\, vähentää virheitä\, nopeuttaa prosesseja\, helpottaa kauppaa ja logistiikkaa sekä taata turvallisen tiedonsiirron?\nTule AamuAreeenalle kuulemaan missä kehitystyössä mennään ja miten digitaalinen tuotepassi ja PEPPOL-tiedonsiirtostandardi tukevat toisiaan?\nDigitaalinen tuotepassi - missä mennään?\n\nDigitaalisen tuotepassin taustat\, tämänhetkinen tilanne ja kehitystyön jatkonäkymät\n\nTallenneEsitysKristiina Valtanen\, VTT Oy\n DPP:n käytännön toteutuksista + Peppol/talousdatan mahdollisuuksista\nTallennePirkka Frosti\, Ioxio Oy\nVerkkolaskufoorumin Visio 2030 - tiekartaksi myös tuotepassien vaatiman datan siirrolle?\n\nVoiko verkkolaskudataa hyödyntää kiertotalouden ja tuotepassien datan keräämisessä?\nMitä pitää tehdä\, jotta Peppol-sanomia voidaan hyödyntää tuotepasseissa ja ESG-raportoinnissa?\nMitä tehtäviä eri toimijoille tulisi tehtäväksi?\n\nTimo Simell\, TIEKE
LOCATION:Webinaari\, Suomi
URL:http://tapahtumat.tieke.fi/event/Ly8AB
END:VEVENT
END:VCALENDAR
