BEGIN:VCALENDAR
METHOD:PUBLISH
VERSION:2.0
PRODID:-//Eventilla iCal Syndication//NONSGML Liana//EN
BEGIN:VEVENT
UID:K6vX8@eventilla.com
DTSTAMP:20230124T110000Z
DTSTART:20230124T110000Z
DTEND:20230124T130000Z
SUMMARY:Työpaja: Tartutaan datavastuullisuuteen – 24.1.2023 klo 13:00
DESCRIPTION:Yleisen tietosuoja-asetuksen voimaantulo oli yksi merkittävä askel kohti vastuullisempia digipalveluita\, mutta miten matka jatkuu tietosuojan tultua perusedellytykseksi? EU-tasolla on valmistelussa kenttään kohdistuvaa digisääntelyä. Samalla myös kansalaisten ja kuluttajien odotukset digioikeuksiensa kunnioittamista kohtaan kasvavat. Tekoälyyn vastuullisuutta pyritään koodaamaan sisään\, mutta usein jo lähtöaineisto tuo mukanaan epäreiluja asetelmia.\nMoni organisaatio miettiikin parhaillaan\, miten tuoda vastuullisuus myös digipalveluiden ja datapohjaisten toimintamallien ytimeen. Toimeenkin on tartuttu: kansainväliseltä huonekaluketjulta löytyy Digital Ethics Leader ja samankaltaisia rooleja syntyy taatusti myös muihin organisaatioihin.\nTIEKE haluaa osaltaan edistää vastuullista digitalisaatiota myös tästä näkökulmasta ja olemme lähteneet rakentamaan tarjontaa\, jolla vastuullisuuden askelmerkit on helpompi tunnistaa.\nTervetuloa työpajaan\, jossa tavoitteena on perehtyä datavastuullisuuteen case-esimerkin kautta ja samalla antaa lisäymmärystä oman yrityksen vastuullisuustyöhön. Työpaja on suunnattu datan ja datavastuullisuuden parissa työskenteleville ja siitä kiinnostuneille.\nTyöpajan ohjelma\n13.00-13.25 Tausta: Datavastuullisuuden osa-alueet ja kysymykset13.25-13.40 Case-esimerkin esittely13.40-14.40 Työskentely yhdessä case-esimerkin ympärillä14.40-15.00 Seuraavat askeleet ja TIEKEN tulevan palvelun esittely\nTyöpajan ohjaaja\n  Mikko Eloholma\, digiosaamisen vauhdittaja\, TIEKE\nMikko työskentelee TIEKEssä digiosaamisen vauhdittajana ja on ollut kehittämässä digitaalista perusosaamista sekä erityisesti tietosuojaan ja tietoturvaan liittyvää osaamista mm. nuorten\, opettajien ja pk-yritysten keskuudessa. Hankkeissa on kehitetty samalla myös digitaalisia oppimisen menetelmiä ja ratkaisuja. Mikko osallistui keväällä 2022 Open Data Instituten Data Ethics Facilitator- valmennuksen\, jonka opit tukevat TIEKEn datavastuullisuuden tarjonnan suunnittelussa.\nTietoa työpajasta\nTyöpajassa työskennellään yhdessä Zoom-ympäristössä\, ja hyödynnämme ideoinnissa myös Mural-työkalua. Ohjelmaan sisältyy avointa keskustelua. Kerromme samalla lisää TIEKEn tulevasta palvelutarjonnasta datavastuullisuuteen liittyen.\nOsallistumislinkin saat heti ilmoittautumisen jälkeen sähköpostiin saapuvassa vahvistuksessa. \nKun osallistut tähän tapahtumaan\, nimesi voi näkyä muille osallistujille ja hetkellisesti myös mahdollisella tallenteella. Osallistumalla tapahtumaan hyväksyt tämän kokemuksen. Joissakin tapahtumissa osallistujanimen voi itse vaihtaa.\nOsallistuminen on maksutonta.Tapahtuman kuvituskuva: ”Interactive Data Ethics Canvas”\, copyright Open Data Institute\, käyttö CC BY 4.0:n mukaisesti. / Alkup. kuvaa rajattu.
LOCATION:Verkko (Teams)
URL:http://tapahtumat.tieke.fi/tartutaan-datavastuullisuuteen
END:VEVENT
END:VCALENDAR
