BEGIN:VCALENDAR
METHOD:PUBLISH
VERSION:2.0
PRODID:-//Eventilla iCal Syndication//NONSGML Liana//EN
BEGIN:VEVENT
UID:D4r4k@eventilla.com
DTSTAMP:20240514T060000Z
DTSTART:20240514T060000Z
DTEND:20240514T090000Z
SUMMARY:Työpaja: Suomalaista työelämää palvelevan DEI/EDI-teemojen johtamisosaamista kehittävän koulutuksen suunnittelu
DESCRIPTION:Työpaja: Suomalaista työelämää palvelevan DEI/EDI-teemojen johtamisosaamista kehittävän koulutuksen suunnittelu\nTIEKE ja Aalto-yliopisto/CKIR ovat mukana Eurooppalaisessa EDIFY-EDU-hankkeessa\, jossa kehitetään DEI/EDI-teemoihin (Equality\, Diversity\, Inclusion) liittyvää koulutusta. Koulutusten keskeistä kohderyhmää ovat johtamiskoulutuksen opiskelijat sekä johtotehtävissä toimivat henkilöt\, yrittäjät\, ammattiliittojen edustajat ja henkilöstöjohtajat. \nKoulutuksen ensimmäinen vaihe on verkkopohjainen MOOC-kurssi\, joka toteutetaan loka-joulukuussa 2024. \nToisessa vaiheessa toteutamme maakohtaisesti räätälöitävän modulaarisen koulutuksen alkuvuodesta 2025. Tämä koulutus koostuu hankkeessa tuotetuista pienemmistä oppimiskokonaisuuksista\, joissa voidaan korostaa maakohtaisia tarpeita.\nKoulutuksen painotukset haluamme rakentaa yhteistyössä keskeisten toimijoiden kanssa. \nEsimerkkejä koulutuksen oppimiskokonaisuuksista:\n\nIntegration of EDI into the roots of Business\nEffective Conflict Resolution for EDI Advocates\nEDI Metrics and Data Analysis for Organizations\nEDI in the design of Digital Services\n\nKaikki koulutuksen oppimiskokonaisuudet löytyvät hankkeen verkkosivuilta https://tieke.fi/hankkeet/edify-edu/edify-edu-koulutukset/ \nEDIFY-EDU-koulutuksen MOOC-osuus vastaa 8-tasoisen Eurooppalaisen tutkintojen viitekehyksen (EQF) tasoa 5 ja erikoistumiskoulutus tasoa 6. \nIlmoittaudu mukaan rakentamaan Suomalaista työelämää parhaiten palvelevaa koulutusta!\nTarjoamme osallistujille aamiaisen ja lounaan.
LOCATION:Otaniemi, Espoo
URL:http://tapahtumat.tieke.fi/dei-tyopaja
END:VEVENT
END:VCALENDAR
