BEGIN:VCALENDAR
METHOD:PUBLISH
VERSION:2.0
PRODID:-//Eventilla iCal Syndication//NONSGML Liana//EN
BEGIN:VEVENT
UID:9kpog@eventilla.com
DTSTAMP:20230524T140000Z
DTSTART:20230524T140000Z
DTEND:20230524T150000Z
SUMMARY:DiyKS-webinaari: Näytä digitaidot osaamismerkeillä
DESCRIPTION:Mitä ovat osaamismerkit? Mikä on digitaitojen osaamismerkistö ja mitä tekemistä sillä on DiyKS-hankkeen kanssa? Miten voin hyödyntää osaamismerkkejä oman digiosaamiseni kehittämisessä ja osoittamisessa? Mitä hyötyä niistä olisi yrityksen tai yhdistyksen henkilöstölle?\nOsaamismerkit kasvattavat suosiotaan. Ne ovat motivoiva tapa tunnistaa ja tunnustaa eri tavoin opinnoissa\, työssä ja vapaa-ajalla hankittua osaamista. Tässä webinaarissa tutustut digitaitojen osaamismerkkeihin ja kuulet\, miten niitä pääsee DiyKS-hankkeen yhteydessä suorittamaan. \nWebinaaritallenne Youtubessa\nEsitys (pdf)\nSisältö ja ohjelma\nWebinaarissa perehdymme osaamismerkkien perusolemukseen ja käsittelemme mm. seuraavia aiheita: \n\nMitä ovat digitaaliset perustaidot?\nMiten ja miksi osoittaa\, että digiperustaidot ovat kunnossa?\nVaihtoehto koulunpenkille ja -todistukselle\nMiten suorittaa osaamismerkkejä DiyKS-hankkeessa?\n\n17.00–17.05 DiyKS-hankkeen ajankohtaiset asiat ja tulevat tapahtumat Timo Kerminen | Jamk | DiyKS-hankkeen projektipäällikkö\n17.05–17.50 Osoita osaamisesi digitaitojen osaamismerkeilläHanna Vuohelainen | TIEKE | Digiosaamisen ja viestinnän vauhdittaja\n17.50–18.00 Kysymyksiä ja keskustelua\nWebinaari soveltuu sinulle\, olitpa sitten kiinnostunut ylipäätään osaamismerkeistä\, omien digitaitojesi kehttämisestä tai toimit yhdistyksen tai yrityksen tehtävissä\, joissa edistät ja tuet muiden osaamista. Tervetuloa mukaan!\nOsaamismerkkien suorittaminen DiyKS-hankkeessa\nDiyKS-hankkeen puitteissa on Keski-Suomen alueella toimivilla mahdollisuuden maksutta suorittaa valtakunnallisia digitaitojen osaamismerkkejä. \nLue lisää ja ilmoittaudu digitaitomerkkien suorittajaksi\n \n\nHanna Vuohelainendigiosaamisen ja viestinnän vauhdittajaTIEKE\n- - - \nDigiosaavat yritykset ja yhteisöt Keski-Suomessa -hankkeessa toteutetaan webinaareja mm. tietosuojasta ja tietoturvasta. Tapahtumat on suunnattu erityisesti Keski-Suomen mikro-ja pk-yrityksille sekä yhdistyksille\, mutta tervetulleita ovat myös muiden yritysten\, yhteisöjen sekä tutkimus-\, koulutus- ja kehitysorganisaatioiden edustajat yli toimialarajojen. Kevään webinaarien tallenteet löytyvät hankkeen soittolistalta TIEKEn YouTube-kanavalla.\nHankkeen Youtube-soittolista\n- - - \n\n\n\n\nTiesithän\, että: Perustaitojen kohentamiseksi on mahdollista järjestää Keski-Suomen alueella myös digipiiri oman yhdistyksen\, yrityksen tai paikkakunnan väelle. Kokoa noin kymmenen hengen ryhmä ja tilaa DiyKSin kouluttaja paikalle olemalla yhteydessä hankkeen vetäjään Timo Kermiseen\, jonka yhteystiedot löydät täältä. Perustaitovalmennuksia tarjolla mm. seuraavista aiheista:\n\nLaitteiden valinta ja käyttö\nTiedonhaku ja arviointi\nTurvallinen toiminta\nVastuullinen toiminta\nViestintä ja asiointi\nSovellusten käyttö ja hallinta\n\n\n\n\n\nKun osallistut tähän tapahtumaan\, nimesi voi näkyä muille osallistujille ja hetkellisesti myös mahdollisella tallenteella. Osallistumalla tapahtumaan hyväksyt tämän kokemuksen. Joissakin tapahtumissa osallistujanimen voi itse vaihtaa.\nOsallistuminen on maksutonta.\nTapahtuman järjestää Jyväskylän ammattikorkeakoulun ja TIEKEn DiyKS - Digiosaavat yritykset ja yhteisöt Keski-Suomessa -hanke. Hanketta rahoittaa Euroopan maaseudun kehittämisen maatalousrahasto.Lisätietoa DiyKS-hankkeesta
LOCATION:Verkko / Teams\, Suomi
URL:http://tapahtumat.tieke.fi/diyks_osaamismerkit
END:VEVENT
END:VCALENDAR
