BEGIN:VCALENDAR
METHOD:PUBLISH
VERSION:2.0
PRODID:-//Eventilla iCal Syndication//NONSGML Liana//EN
BEGIN:VEVENT
UID:4N065@eventilla.com
DTSTAMP:20250422T090000Z
DTSTART:20250422T090000Z
DTEND:20250422T120000Z
SUMMARY:Green ICT -ekosysteemitapaaminen: Julkisten ICT-hankintojen ilmasto- ja ympäristötavoitteet
DESCRIPTION:Hankinnat muodostavat julkisen sektorin ympäristövaikutuksista valtaosan. Suomi on yksi harvoista OECD-maista\, joissa julkisille hankinnoille ei ole ollut kansallisia ekologisia tavoitteita tai pakollisia ympäristövaatimuksia (Ympäristöministeriö). Hankintayksiköt kuitenkin tarvitsevat konkreettisia tavoitteita ja mittareita hiilineutraaliuden ilmasto- ja ympäristöystävällisyyden edistämiseksi julkisissa hankinnoissa.\nTänä vuonna asiaan saadaan muutos\, kun ympäristöministeriö ja valtiovarainministeriö asettavat pian julkaistavat ekologiset tavoitteet myös ICT:lle (laitteet\, ohjelmistot\, datasalit). Ympäristövaikutusten vähentämistavoitteet on tavoitteissa asetettu vuoteen 2035. \nKansallisessa Green ICT -ekosysteemitapaamisessa 22.4.2025 kuultiin eri näkökulmia uusista julkisten ICT-hankintojen ilmasto- ja ympäristötavoitteista. Tapahtuman järjestivät yhteistyössä ympäristöministeriö\, valtiovarainministeriö\, HankintaSuomi-ohjelma ja Green ICT -hanke VISIIRI. VISIIRI-hanketta osarahoittaa Euroopan unioni. Rahoitus on myönnetty Pohjois-Pohjanmaan ELY-keskuksen kautta.\n \nTallenne ja materiaalit \nTapaamisen tallenteen näet tästä. Tallenne sisältää seuraavat puheenvuorot: \n\n\nTervetulosanat\, Green ICT -projektipäällikkö Antti Sipilä\, TIEKE. Ks. esitysmateriaali tästä. \n\n\nJulkisten ICT-hankintojen ilmasto- ja ympäristötavoitteiden esittely\, erityisasiantuntija Salla Koivusalo\, ympäristöministeriö \n\n\nTavoitteet tuottajan näkökulmasta\, Tero Niemi\, Digia\n\n\nTavoitteet hankkijan näkökulmasta\, Enni Leppälä\, Tampereen kaupunki \n\n\nTavoitteet tutkimuksen näkökulmasta\, ohjelmistotekniikan apulaisprofessori Tuomas Mäkilä\, Turun yliopisto. Ks. esitysmateriaali tästä. \n\n\nHankintaSuomi ja ICT-kohtaamo – Kohtaamispaikat julkisten hankintojen kehittämiseen\n\n\njohtava asiantuntija Eriika Autio\, valtiovarainministeriö. Ks. esitysmateriaali tästä.\n\n\nhankinnoista ja vastuullisuudesta vastaava johtava Laura Ylitalo\, Istekki. Ks. esitysmateriaali tästä. \n\n\n\n\nTapaamisen työpajaa "Tiekartan rakennus – tavoitteista konkretiaan" ei tallennettu. \n \nMukana tapaamisessa \n\nSalla Koivusalo\, ympäristöministeriö \nKoivusalo toimii ympäristöministeriön vastuulla olevien kestävien hankintojen asiantuntijana\, osallistuu julkisten hankintojen tuote- ja sektorisäädösten koordinaatioon sekä kansalliseen toimeenpanoon. Hän on työskennellyt kestävien hankintojen parissa yli 10 vuoden ajan.\nYmpäristöministeriö vetää julkisten hankintojen ekologisten tavoitteiden asiantuntijaryhmää\, joka koostuu pääosin hankintayksiköiden edustajista. Asiantuntijaryhmän tehtävänä on olla mukana valmistelemassa ensimmäisiä kansallisia julkisten hankintojen ekologisia tavoitteita laajassa sidosryhmäyhteistyössä.\n \n\nLaura Ylitalo\, Istekki Oy \nTyöskentelen Istekki Oy:ssä hankinta- ja vastuullisuusjohtajana\, joten sekä hankinnat että kestävät liiketoimintatavat ovat lähellä sydäntäni. Näissä molemmissa kiehtoo erityisesti oikein toimiminen\, jatkuva kehittyminen ja yhteiskunnallinen vaikuttavuus.\nIstekki on suomalainen asiantuntijaorganisaatio\, joka toimii yhteiskunnan taustavoimana. Olemme erikoistuneet terveydenhuollon\, digitaalisten toimintaympäristöjen ja hyvinvoinnin turvaamiseen ja teemme työtä miljoonien kansalaisten hyvinvoinnin eteen. Toimintaamme ohjaavat vaikuttavuus ja vastuullisuus sekä asiakasomistajiemme kokonaistaloudellisuus. Kilpailutamme ja ostamme asiakkaillemme palveluita avoimilta markkinoilta.\nToimin myös ICT-kohtaamon vetäjänä. ICT-kohtaamo on vuorovaikutteinen ja avoin yhteistyöverkosto\, jossa julkisen sektorin edustajat ja yritykset keskustelevat ja vaihtavat ajatuksia. Keskustelemalla lisäämme ymmärrystä ja yhteistyötä julkisen ja yksityisen sektorin välillä. ICT-Kohtaamo on yksi Hankinta-Suomi-ohjelman alaisista foorumeista.\n \n\nEriika Autio\, Hankinta-Suomi-ohjelman ohjelmapäällikkö\, valtiovarainministeriö\nToimin Hankinta-Suomi-ohjelman ohjelmapäällikkönä valtiovarainministeriössä. Olen juristi ja työskennellyt julkisten hankintojen parissa\, eri rooleissa ja organisaatiossa\, vuodesta 2007. Erityisesti innovatiiviset ja kestävät hankinnat ovat lähellä sydäntäni.\nValtiovarainministeriön Hankinta-Suomi-ohjelma toimeenpanee vuonna 2020 laadittua kansallista julkisten hankintojen strategiaa. Nyt on meneillään Hankinta-Suomen toinen nelivuotinen ohjelmakausi\, 2024–2027. Hankinta-Suomi-ohjelman toisen kauden yksi neljästä tavoitteesta on strategisemmat hankinnat\, jonka yhtenä kulmakivenä on ekologisuutta edistävät tavoitteet\, kuten hiilineutraalisuustavoitteet ja kiertotalouden toteuttaminen.\n \n\nTuomas Mäkilä\, Turun yliopisto Tuomas Mäkilä toimii ohjelmistotekniikan apulaisprofessorina Turun yliopistossa. Hän on aiemmin vetänyt MitViDi-hanketta\, jossa on kehitetty hankintakriteereitä vihreämpiin ohjelmistoihin. VISIIRI-hankkeessa hän vastaa ohjelmistojen virrankulutuksen mittaamiseen liittyvistä toimenpiteistä. Mäkilä on myös jäsenenä ISO/IEC JTC1/SC7:n vihreiden ohjelmistojen standardointia valmistelevassa AHG 10 -työryhmässä.\n \n\nAntti Sipilä\, TIEKE Antti Sipilä toimii TIEKEssä Green ICT -asiantuntijana. Antti vastaa Green ICT -hanketyöstä ja Green ICT -ekosysteemin kehittämisestä. Aiemmin hän on tehnyt ICT-hankintoja julkishallinnossa ja toiminut pk-yrityksessä hankintakonsulttina. 
LOCATION:Zoom
URL:http://tapahtumat.tieke.fi/green-ict-ekosysteemitapaaminen-22042025
END:VEVENT
END:VCALENDAR
