BEGIN:VCALENDAR
METHOD:PUBLISH
VERSION:2.0
PRODID:-//Eventilla iCal Syndication//NONSGML Liana//EN
BEGIN:VEVENT
UID:2kDgD@eventilla.com
DTSTAMP:20230906T060000Z
DTSTART:20230906T060000Z
DTEND:20230906T070000Z
SUMMARY:Webinaari: Tietosuoja on näyteikkuna yrityksen vastuulliseen toimintaan
DESCRIPTION:Kuvaako organisaatiosi tietosuojaseloste ymmärrettävästi sen\, mitä varten ja miten henkilötietoja käsitellään? GDPR:n eli EU:n yleisen tietosuoja-asetuksen soveltaminen alkoi 2018\, mutta kartoitusten mukaan esim. pk-yritysten tietosuojassa rittää vielä kehittämistä. Webinaarissa esitellään tietosuojan peruskäsitteitä ja perehdytään aiheeseen erityisesti läpinäkyvyyden ja henkilötietojen käsittelystä informoinnin näkökulmasta. Webinaarissa tarjotaan käytännön vinkkejä yrityksen tai yhteisön tietosuojaselosteen laadintaan.Webinaaritallenne Youtubessa\nEsitys (pdf)\nSisältö ja ohjelma\nWebinaarissa perehdymme tietosuojan perusteisiin ja käsittelemme mm. seuraavia aiheita.\n\nMitä tietosuojalla tarkoitetaan?\nMitä henkilötietojen käsittelystä tulee kertoa\, ja miksi?\nVinkkejä tietosuojaselosteen laadintaan\n\n9.00–09.50 Tietosuoja – läpinäkyvyys\, informointi ja tietosuojaselosteMikko Eloholma | TIEKE | Digiosaamisen vauhdittaja9.50–10.00 Kysymyksiä ja keskustelua\n\nMikko Eloholmadigiosaamisen vauhdittajaTIEKE\n- - - \nDigiosaavat yritykset ja yhteisöt Keski-Suomessa -hankkeessa toteutetaan webinaareja mm. tietosuojasta ja tietoturvasta. Tapahtumat on suunnattu erityisesti Keski-Suomen mikro-ja pk-yrityksille sekä yhdistyksille\, mutta tervetulleita ovat myös muiden yritysten\, yhteisöjen sekä tutkimus-\, koulutus- ja kehitysorganisaatioiden edustajat yli toimialarajojen. Kevään webinaarien tallenteet löytyvät hankkeen soittolistalta TIEKEn YouTube-kanavalla: \nHankkeen Youtube-soittolista\n- - - \nKun osallistut tähän tapahtumaan\, nimesi voi näkyä muille osallistujille ja hetkellisesti myös mahdollisella tallenteella. Osallistumalla tapahtumaan hyväksyt tämän kokemuksen. Joissakin tapahtumissa osallistujanimen voi itse vaihtaa.\nOsallistuminen on maksutonta.\nTapahtuman järjestää Jyväskylän ammattikorkeakoulun ja TIEKEn DiyKS - Digiosaavat yritykset ja yhteisöt Keski-Suomessa -hanke. Hanketta rahoittaa Euroopan maaseudun kehittämisen maatalousrahasto.\nLisätietoja DiyKS-hankkeesta
LOCATION:Verkko / Teams\, Suomi
URL:http://tapahtumat.tieke.fi/event/2kDgD
END:VEVENT
END:VCALENDAR
