BEGIN:VCALENDAR
METHOD:PUBLISH
VERSION:2.0
PRODID:-//Eventilla iCal Syndication//NONSGML Liana//EN
BEGIN:VEVENT
UID:1NB4B@eventilla.com
DTSTAMP:20230119T070000Z
DTSTART:20230119T070000Z
DTEND:20230119T093000Z
SUMMARY:Järjestödigi-kartoituksen tulosten julkaisu
DESCRIPTION:Järjestödigi-kartoitus selvittää suomalaisten järjestöjen ja yhdistysten tilaa digitalisaatioon\, digiosaamiseen\, viestintään ja sosiaalisen median käyttöön liittyen.\nJärjestödigi-kartoitus toteutettiin syksyn 2022 aikana jo viidettä kertaa TIEKEn\, Viestintä-Piritta Oy:n ja Vitec Avoine Oy:n yhteistyönä.\nJulkaisutilaisuudessa esittelemme tuoreimmat tulokset ja kerromme\, millaisia havaintoja tai muutoksia järjestödigissä on nähtävissä. Tule mukaan kuulemaan ja kysymään tarkemmin meiltä tekijöiltä!\nIlmoittautumislinkki lähetetään muutama päivä ennen tilaisuuden ajankohtaa. Tilaisuudesta tehdään tallenne\, joka julkaistaan myöhemmin Järjestödigi-verkkosivustolla.\n \nIlmoittaudu\nIlmoittautumiset hallinnoidaan Viesintä-Pirittan Adency-palvelussa.\nJärjestödigin tietosuojaseloste\nLue lisää Järjestödigi-sivustolta
LOCATION:Zoom\, Suomi
URL:http://tapahtumat.tieke.fi/jarjestodigi2022tulokset
END:VEVENT
END:VCALENDAR
